BEGIN:VCALENDAR
VERSION:2.0
PRODID:-//ExhibitionMatches.com//NONSGML v1.0//EN
BEGIN:VEVENT
UID=0A9044D5-EC31-BB5E-60AD11E624681525
DTSTAMP=20260422T031452Z
DTSTART;VALUE=DATE:20260801
DTEND;VALUE=DATE:20260802
SUMMARY:OWA Beach State Championships
LOCATION:Box Car RV Hill Campground, 92799 Trans Pacific Parkway, North Bend, OR, 97459
DESCRIPTION:View full event details: https://wrestlingtournaments.org/view.cfm?ID=107106
Contact: NaTasha Umemoto oregongirlswrestling@gmail.com
URL;VALUE=URI:https://wrestlingtournaments.org/view.cfm?ID=107106
END:VEVENT
END:VCALENDAR